BEGIN:VCALENDAR
VERSION:2.0
METHOD:PUBLISH
PRODID:-//Telerik Inc.//Sitefinity CMS 15.3//EN
BEGIN:VTIMEZONE
TZID:Eastern Standard Time
BEGIN:STANDARD
DTSTART:20251102T020000
RRULE:FREQ=YEARLY;BYDAY=1SU;BYHOUR=2;BYMINUTE=0;BYMONTH=11
TZNAME:Eastern Standard Time
TZOFFSETFROM:-0400
TZOFFSETTO:-0500
END:STANDARD
BEGIN:DAYLIGHT
DTSTART:20250301T020000
RRULE:FREQ=YEARLY;BYDAY=2SU;BYHOUR=2;BYMINUTE=0;BYMONTH=3
TZNAME:Eastern Daylight Time
TZOFFSETFROM:-0500
TZOFFSETTO:-0400
END:DAYLIGHT
END:VTIMEZONE
BEGIN:VEVENT
DESCRIPTION:Moving Art Centre for Performing Arts is proud to present the T
 ony Award-winning musical Urinetown: The Musical—featuring outstanding loc
 al talent\, including members of their Triple Threat Troupe\, a group of 2
 5 young performers selected through audition.\n\nThese dedicated performer
 s bring impressive experience to the stage\, with several having earned pr
 ovincial and national recognition in music\, and many travelling to Atlant
 a year after year\, winning awards in music\, dance\, and acting.\n\nUrine
 town is a sharp\, satirical comedy that explores themes of power\, politic
 s\, and society—delivered with humour\, unforgettable music\, and a messag
 e that feels especially relevant today.\n\nRecommended for ages 13+\n\nPer
 formances begin April 25th\nTickets available now: Moving Art Tickets\n\nW
 ith rehearsals in full swing and tech week just around the corner\, this i
 s a fantastic opportunity to support passionate local youth and experience
  high-quality live theatre right here in our community.\nDescription:Movin
 g Art Centre for Performing Arts is proud to present the Tony Award-winnin
 g musical Urinetown: The Musical&mdash\;featuring outstanding local talent
 \, including members of their Triple Threat Troupe\, a group of 25 young p
 erformers selected through audition.\nThese dedicated performers bring imp
 ressive experience to the stage\, with several having earned provincial an
 d national recognition in music\, and many travelling to Atlanta year afte
 r year\, winning awards in music\, dance\, and acting.\n\nUrinetown is a s
 harp\, satirical comedy that explores themes of power\, politics\, and soc
 iety&mdash\;delivered with humour\, unforgettable music\, and a message th
 at feels especially relevant today.\nRecommended for ages 13+\n\nPerforman
 ces begin April 25thTickets available now: Moving Art Tickets\n\nWith rehe
 arsals in full swing and tech week just around the corner\, this is a fant
 astic opportunity to support passionate local youth and experience high-qu
 ality live theatre right here in our community.
DTEND:20260503T180000Z
DTSTAMP:20260421T133652Z
DTSTART:20260425T230000Z
LOCATION:Barrie\,The Loft Art Space\, 125 Anne St. S.
SEQUENCE:0
SUMMARY:Urinetown: The Musical
UID:RFCALITEM639123610125191443
X-ALT-DESC;FMTTYPE=text/html:Moving Art Centre for Performing Arts is proud
  to present the Tony Award-winning musical Urinetown: The Musical—featurin
 g outstanding local talent\, including members of their Triple Threat Trou
 pe\, a group of 25 young performers selected through audition.\n\nThese de
 dicated performers bring impressive experience to the stage\, with several
  having earned provincial and national recognition in music\, and many tra
 velling to Atlanta year after year\, winning awards in music\, dance\, and
  acting.\n\nUrinetown is a sharp\, satirical comedy that explores themes o
 f power\, politics\, and society—delivered with humour\, unforgettable mus
 ic\, and a message that feels especially relevant today.\n\nRecommended fo
 r ages 13+\n\nPerformances begin April 25th\nTickets available now: Moving
  Art Tickets\n\nWith rehearsals in full swing and tech week just around th
 e corner\, this is a fantastic opportunity to support passionate local you
 th and experience high-quality live theatre right here in our community.\n
 <p><strong>Description:</strong><br />Moving Art Centre for Performing Art
 s is proud to present the Tony Award-winning musical Urinetown: The Musica
 l&mdash\;featuring outstanding local talent\, including members of their T
 riple Threat Troupe\, a group of 25 young performers selected through audi
 tion.\n</p><p>These dedicated performers bring impressive experience to th
 e stage\, with several having earned provincial and national recognition i
 n music\, and many travelling to Atlanta year after year\, winning awards 
 in music\, dance\, and acting.\n\nUrinetown is a sharp\, satirical comedy 
 that explores themes of power\, politics\, and society&mdash\;delivered wi
 th humour\, unforgettable music\, and a message that feels especially rele
 vant today.\n</p><p>Recommended for ages 13+\n\nPerformances begin April 2
 5th</p><p>Tickets available now: Moving Art Tickets\n\nWith rehearsals in 
 full swing and tech week just around the corner\, this is a fantastic oppo
 rtunity to support passionate local youth and experience high-quality live
  theatre right here in our community.</p>
END:VEVENT
END:VCALENDAR
