BEGIN:VCALENDAR
VERSION:2.0
METHOD:PUBLISH
PRODID:-//Telerik Inc.//Sitefinity CMS 15.3//EN
BEGIN:VTIMEZONE
TZID:Eastern Standard Time
BEGIN:STANDARD
DTSTART:20251102T020000
RRULE:FREQ=YEARLY;BYDAY=1SU;BYHOUR=2;BYMINUTE=0;BYMONTH=11
TZNAME:Eastern Standard Time
TZOFFSETFROM:-0400
TZOFFSETTO:-0500
END:STANDARD
BEGIN:DAYLIGHT
DTSTART:20250301T020000
RRULE:FREQ=YEARLY;BYDAY=2SU;BYHOUR=2;BYMINUTE=0;BYMONTH=3
TZNAME:Eastern Daylight Time
TZOFFSETFROM:-0500
TZOFFSETTO:-0400
END:DAYLIGHT
END:VTIMEZONE
BEGIN:VEVENT
DESCRIPTION:Description:Get ready for an unforgettable evening of country m
 usic magic! 'Real Love' the world's #1 Kenny Rogers and Dolly Parton Tribu
 te Show is performed by award-winning country artists Alan Turner and Laur
 ie Lynn. This concert promises to be a night filled with classic hits and 
 the timeless charm of two country music legends.Alan and Laurie bring Kenn
 y and Dolly's legacy to life\, taking audiences on a journey through six d
 ecades of unforgettable songs. Fans of all ages are invited to sing along\
 , tap their feet\, and reminisce as they enjoy the legendary hits that mad
 e Rogers and Parton household names. This dynamic duo's on-stage charisma 
 and heartfelt chemistry will make you feel like you're spending an evening
  with the real Kenny and Dolly.The show has wowed audiences across North A
 merica\, offering a faithful recreation of the original country icons' sta
 ge presence and vocal harmony. Whether you're a longtime fan or discoverin
 g these classic hits for the first time\, the 'Real Love' tribute show is 
 sure to be a heartwarming experience\, filled with songs that speak to lov
 e\, life\, and memories that last a lifetime.
DTEND:20260508T020000Z
DTSTAMP:20260423T103926Z
DTSTART:20260507T233000Z
LOCATION:Barrie\,Georgian Theatre\, 1 Georgian Dr.
SEQUENCE:0
SUMMARY:Real Love: Kenny Rogers & Dolly Parton Tribute Show
UID:RFCALITEM639125231660397879
X-ALT-DESC;FMTTYPE=text/html:<p><strong>Description:</strong><br />Get read
 y for an unforgettable evening of country music magic! 'Real Love' the wor
 ld's #1 Kenny Rogers and Dolly Parton Tribute Show is performed by award-w
 inning country artists Alan Turner and Laurie Lynn. This concert promises 
 to be a night filled with classic hits and the timeless charm of two count
 ry music legends.</p><p>Alan and Laurie bring Kenny and Dolly's legacy to 
 life\, taking audiences on a journey through six decades of unforgettable 
 songs. Fans of all ages are invited to sing along\, tap their feet\, and r
 eminisce as they enjoy the legendary hits that made Rogers and Parton hous
 ehold names. This dynamic duo's on-stage charisma and heartfelt chemistry 
 will make you feel like you're spending an evening with the real Kenny and
  Dolly.</p><p>The show has wowed audiences across North America\, offering
  a faithful recreation of the original country icons' stage presence and v
 ocal harmony. Whether you're a longtime fan or discovering these classic h
 its for the first time\, the 'Real Love' tribute show is sure to be a hear
 twarming experience\, filled with songs that speak to love\, life\, and me
 mories that last a lifetime.</p>
END:VEVENT
END:VCALENDAR
