BEGIN:VCALENDAR
VERSION:2.0
METHOD:PUBLISH
PRODID:-//Telerik Inc.//Sitefinity CMS 15.3//EN
BEGIN:VTIMEZONE
TZID:Eastern Standard Time
BEGIN:STANDARD
DTSTART:20251102T020000
RRULE:FREQ=YEARLY;BYDAY=1SU;BYHOUR=2;BYMINUTE=0;BYMONTH=11
TZNAME:Eastern Standard Time
TZOFFSETFROM:-0400
TZOFFSETTO:-0500
END:STANDARD
BEGIN:DAYLIGHT
DTSTART:20250301T020000
RRULE:FREQ=YEARLY;BYDAY=2SU;BYHOUR=2;BYMINUTE=0;BYMONTH=3
TZNAME:Eastern Daylight Time
TZOFFSETFROM:-0500
TZOFFSETTO:-0400
END:DAYLIGHT
END:VTIMEZONE
BEGIN:VEVENT
DESCRIPTION:Celebrate Earth Day Grounded in Mindfulness. End the session pl
 anting your own seed to take home and watch it grow.\n\nAccompanied by the
  warmth of natural light and floor-to-ceiling fireplace\, practice movemen
 t and mindfulness flow together beneath the forest canopy. If time permits
 \, participants may choose to join an optional\, instructor-guided step in
 to the forest for a direct connection with nature before and after yoga.\n
 Description:Celebrate Earth Day Grounded in Mindfulness. End the session p
 lanting your own seed to take home and watch it grow.\n\nAccompanied by th
 e warmth of natural light and floor-to-ceiling fireplace\, practice moveme
 nt and mindfulness flow together beneath the forest canopy. If time permit
 s\, participants may choose to join an optional\, instructor-guided step i
 nto the forest for a direct connection with nature before and after yoga.E
 vent Time: 5:30pm - 7:00pmAdmission: $20/participant
DTEND:20260422T230000Z
DTSTAMP:20260421T134159Z
DTSTART:20260422T213000Z
LOCATION:Utopia\,Tiffin Centre for Conservation\, 8195 8th Line
SEQUENCE:0
SUMMARY:Celebrate Earth Day with Nature Infused Yoga
UID:RFCALITEM639123613198203989
X-ALT-DESC;FMTTYPE=text/html:Celebrate Earth Day Grounded in Mindfulness. E
 nd the session planting your own seed to take home and watch it grow.\n\nA
 ccompanied by the warmth of natural light and floor-to-ceiling fireplace\,
  practice movement and mindfulness flow together beneath the forest canopy
 . If time permits\, participants may choose to join an optional\, instruct
 or-guided step into the forest for a direct connection with nature before 
 and after yoga.\n<p><strong>Description:</strong><br />Celebrate Earth Day
  Grounded in Mindfulness. End the session planting your own seed to take h
 ome and watch it grow.\n\nAccompanied by the warmth of natural light and f
 loor-to-ceiling fireplace\, practice movement and mindfulness flow togethe
 r beneath the forest canopy. If time permits\, participants may choose to 
 join an optional\, instructor-guided step into the forest for a direct con
 nection with nature before and after yoga.</p><p><strong>Event Time:</stro
 ng> 5:30pm - 7:00pm<br /><strong>Admission: </strong>$20/participant</p>
END:VEVENT
END:VCALENDAR
