BEGIN:VCALENDAR
VERSION:2.0
METHOD:PUBLISH
PRODID:-//Telerik Inc.//Sitefinity CMS 15.3//EN
BEGIN:VTIMEZONE
TZID:Eastern Standard Time
BEGIN:STANDARD
DTSTART:20251102T020000
RRULE:FREQ=YEARLY;BYDAY=1SU;BYHOUR=2;BYMINUTE=0;BYMONTH=11
TZNAME:Eastern Standard Time
TZOFFSETFROM:-0400
TZOFFSETTO:-0500
END:STANDARD
BEGIN:DAYLIGHT
DTSTART:20250301T020000
RRULE:FREQ=YEARLY;BYDAY=2SU;BYHOUR=2;BYMINUTE=0;BYMONTH=3
TZNAME:Eastern Daylight Time
TZOFFSETFROM:-0500
TZOFFSETTO:-0400
END:DAYLIGHT
END:VTIMEZONE
BEGIN:VEVENT
DESCRIPTION:Description:Outdoor spring market featuring local vendors\, enj
 oy farm fresh beer\, delicious food\, live music and more.&nbsp\;Ideal for
  Mother's Day gifts\, end-of-year Teacher's Gifts\, or items for cottagers
 .Event Time: 11am - 5pm
DTEND:20260503T210000Z
DTSTAMP:20260424T135342Z
DTSTART:20260502T150000Z
LOCATION:Coldwater\,Quayle's Brewery\, 4567 12 Line North
SEQUENCE:0
SUMMARY:Quayle's Brewery Spring Market
UID:RFCALITEM639126212229618927
X-ALT-DESC;FMTTYPE=text/html:<p><strong>Description:<br /></strong>Outdoor 
 spring market featuring local vendors\, enjoy farm fresh beer\, delicious 
 food\, live music and more.&nbsp\;Ideal for Mother's Day gifts\, end-of-ye
 ar Teacher's Gifts\, or items for cottagers.<br /><br /><strong>Event Time
 : </strong>11am - 5pm<br /></p>
END:VEVENT
END:VCALENDAR
